BEGIN:VCALENDAR
PRODID:-//eluceo/ical//2.0/EN
VERSION:2.0
CALSCALE:GREGORIAN
BEGIN:VEVENT
UID:e007d055e370d5f29b30f5858f209665
DTSTAMP:20260419T165330Z
SUMMARY:Doodle-Umfrage Meetings Oktober-Dezember online
DESCRIPTION:Hier ist die neue Doodle-Umfrage (auf Titel klicken).\n\nBeacht
 et bitte\, dass  alle Namen schon in alphabetischer Reihenfolge eingetrag
 en sind. Ihr braucht also nur noch die Häklein zu setzen.
URL:https://rotary-lenzburg-seetal.ch/sv/agenda/show/55742
DTSTART;TZID=Europe/Zurich:20150623T000000
DTEND;TZID=Europe/Zurich:20150623T000000
LOCATION:Restaurant Bänziger
CATEGORIES:Rotary
END:VEVENT
BEGIN:VTIMEZONE
TZID:Europe/Zurich
BEGIN:DAYLIGHT
DTSTART:20150623T000000
TZNAME:CEST
TZOFFSETTO:+0200
TZOFFSETFROM:+0200
END:DAYLIGHT
END:VTIMEZONE
END:VCALENDAR
