BEGIN:VCALENDAR
PRODID:-//eluceo/ical//2.0/EN
VERSION:2.0
CALSCALE:GREGORIAN
BEGIN:VEVENT
UID:0b476775aaf534e477dac3e8035dc0a4
DTSTAMP:20260419T134106Z
SUMMARY:Benefizkonzert "Music for Life" zu Gunsten von EndPolioNow
DESCRIPTION: Sonntag\, 1. November 2015 bis Montag\, 2. November 2015\, Lu
 zern\n \n\n\n\nEin Termin\, den Sie sich gerne merken dürfen: Am 1. Nove
 mber 2015 findet das Konzert mit dem Kammerorchester Basel im KKL in Luzer
 n statt.\n\nInformationen zum Konzert und Reservation über folgenden Link
 .
URL:https://rotary-lenzburg-seetal.ch/sv/agenda/show/52484
DTSTART;TZID=Europe/Zurich:20150625T000000
DTEND;TZID=Europe/Zurich:20150625T000000
LOCATION:KKL Luzern
CATEGORIES:Rotary
END:VEVENT
BEGIN:VTIMEZONE
TZID:Europe/Zurich
BEGIN:DAYLIGHT
DTSTART:20150625T000000
TZNAME:CEST
TZOFFSETTO:+0200
TZOFFSETFROM:+0200
END:DAYLIGHT
END:VTIMEZONE
END:VCALENDAR
