BEGIN:VCALENDAR
PRODID:-//eluceo/ical//2.0/EN
VERSION:2.0
CALSCALE:GREGORIAN
BEGIN:VEVENT
UID:df50808bb8e63198c1fa3d405b65bb38
DTSTAMP:20260422T140732Z
SUMMARY:Plauderlunch
DESCRIPTION:
URL:https://rotary-lenzburg-seetal.ch/it/agenda/show/43155
DTSTART;TZID=Europe/Zurich:20140725T000000
DTEND;TZID=Europe/Zurich:20140725T000000
LOCATION:Restaurant Bänziger
CATEGORIES:Rotary
END:VEVENT
BEGIN:VTIMEZONE
TZID:Europe/Zurich
BEGIN:DAYLIGHT
DTSTART:20140725T000000
TZNAME:CEST
TZOFFSETTO:+0200
TZOFFSETFROM:+0200
END:DAYLIGHT
END:VTIMEZONE
END:VCALENDAR
