BEGIN:VCALENDAR
PRODID:-//eluceo/ical//2.0/EN
VERSION:2.0
CALSCALE:GREGORIAN
BEGIN:VEVENT
UID:c77cb8dc388e799be0613ac54f75b5e5
DTSTAMP:20260420T123911Z
SUMMARY:Plauderlunch
DESCRIPTION:
URL:https://rotary-lenzburg-seetal.ch/it/agenda/show/37802
DTSTART;TZID=Europe/Zurich:20140627T000000
DTEND;TZID=Europe/Zurich:20140627T000000
LOCATION:Restaurant Seeblick
CATEGORIES:Rotary
END:VEVENT
BEGIN:VTIMEZONE
TZID:Europe/Zurich
BEGIN:DAYLIGHT
DTSTART:20140627T000000
TZNAME:CEST
TZOFFSETTO:+0200
TZOFFSETFROM:+0200
END:DAYLIGHT
END:VTIMEZONE
END:VCALENDAR
