BEGIN:VCALENDAR
PRODID:-//eluceo/ical//2.0/EN
VERSION:2.0
CALSCALE:GREGORIAN
BEGIN:VEVENT
UID:f6feaa421253440130fcf158048169cf
DTSTAMP:20260424T084652Z
SUMMARY:Chancen der Wirtschaft im Umfeld der Energiewende
DESCRIPTION:Relatore/i: Christian Röthenmund\, Geschäftsführer Minergie
URL:https://rotary-lenzburg-seetal.ch/it/agenda/show/37792
DTSTART;TZID=Europe/Zurich:20140502T000000
DTEND;TZID=Europe/Zurich:20140502T000000
LOCATION:Restaurant Seeblick
CATEGORIES:Rotary
END:VEVENT
BEGIN:VTIMEZONE
TZID:Europe/Zurich
BEGIN:DAYLIGHT
DTSTART:20140502T000000
TZNAME:CEST
TZOFFSETTO:+0200
TZOFFSETFROM:+0200
END:DAYLIGHT
END:VTIMEZONE
END:VCALENDAR
