BEGIN:VCALENDAR
PRODID:-//eluceo/ical//2.0/EN
VERSION:2.0
CALSCALE:GREGORIAN
BEGIN:VEVENT
UID:ce6fa17993f1b3ee2b6869a3d6d27425
DTSTAMP:20260420T141624Z
SUMMARY:Plauderlunch
DESCRIPTION:
URL:https://rotary-lenzburg-seetal.ch/it/agenda/show/37791
DTSTART;TZID=Europe/Zurich:20140425T000000
DTEND;TZID=Europe/Zurich:20140425T000000
LOCATION:Restaurant Seeblick
CATEGORIES:Rotary
END:VEVENT
BEGIN:VTIMEZONE
TZID:Europe/Zurich
BEGIN:DAYLIGHT
DTSTART:20140425T000000
TZNAME:CEST
TZOFFSETTO:+0200
TZOFFSETFROM:+0200
END:DAYLIGHT
END:VTIMEZONE
END:VCALENDAR
