BEGIN:VCALENDAR
PRODID:-//eluceo/ical//2.0/EN
VERSION:2.0
CALSCALE:GREGORIAN
BEGIN:VEVENT
UID:8682a735b1d96f353e8123da73b88adb
DTSTAMP:20260424T102120Z
SUMMARY:Kari's Nussbaumplantage in Modavien
DESCRIPTION:Relatore/i: Karl Leemann
URL:https://rotary-lenzburg-seetal.ch/it/agenda/show/37788
DTSTART;TZID=Europe/Zurich:20140404T000000
DTEND;TZID=Europe/Zurich:20140404T000000
LOCATION:Restaurant Seeblick
CATEGORIES:Rotary
END:VEVENT
BEGIN:VTIMEZONE
TZID:Europe/Zurich
BEGIN:DAYLIGHT
DTSTART:20140404T000000
TZNAME:CEST
TZOFFSETTO:+0200
TZOFFSETFROM:+0200
END:DAYLIGHT
END:VTIMEZONE
END:VCALENDAR
