BEGIN:VCALENDAR
PRODID:-//eluceo/ical//2.0/EN
VERSION:2.0
CALSCALE:GREGORIAN
BEGIN:VEVENT
UID:d32ced3a4bc98a6b9ab4a19e18f719b4
DTSTAMP:20260424T102354Z
SUMMARY:Unternehmensgründer aus Berufung und nicht nur das
DESCRIPTION:Relatore/i: Dr. Edgar Oehler
URL:https://rotary-lenzburg-seetal.ch/it/agenda/show/37784
DTSTART;TZID=Europe/Zurich:20140321T000000
DTEND;TZID=Europe/Zurich:20140321T000000
LOCATION:Restaurant Seeblick
CATEGORIES:Rotary
END:VEVENT
BEGIN:VTIMEZONE
TZID:Europe/Zurich
BEGIN:STANDARD
DTSTART:20140321T000000
TZNAME:CET
TZOFFSETTO:+0100
TZOFFSETFROM:+0100
END:STANDARD
END:VTIMEZONE
END:VCALENDAR
