BEGIN:VCALENDAR
PRODID:-//eluceo/ical//2.0/EN
VERSION:2.0
CALSCALE:GREGORIAN
BEGIN:VEVENT
UID:1b0a23f287b0a14a584acdcdd509843d
DTSTAMP:20260424T101456Z
SUMMARY:Aktuelles zu ABB und die Herausforderung der Energiestrategie
DESCRIPTION:Relatore/i: Dr. Remo Lütolf\, CEO ABB Schweiz
URL:https://rotary-lenzburg-seetal.ch/it/agenda/show/37779
DTSTART;TZID=Europe/Zurich:20140214T000000
DTEND;TZID=Europe/Zurich:20140214T000000
LOCATION:Restaurant Seeblick
CATEGORIES:Rotary
END:VEVENT
BEGIN:VTIMEZONE
TZID:Europe/Zurich
BEGIN:STANDARD
DTSTART:20140214T000000
TZNAME:CET
TZOFFSETTO:+0100
TZOFFSETFROM:+0100
END:STANDARD
END:VTIMEZONE
END:VCALENDAR
