BEGIN:VCALENDAR
PRODID:-//eluceo/ical//2.0/EN
VERSION:2.0
CALSCALE:GREGORIAN
BEGIN:VEVENT
UID:266ffa93c120a7a7cf3a7e03b56603eb
DTSTAMP:20260424T085428Z
SUMMARY:Gastronomie und vieles mehr
DESCRIPTION:Relatore/i: Rolf Kasper
URL:https://rotary-lenzburg-seetal.ch/it/agenda/show/33705
DTSTART;TZID=Europe/Zurich:20131129T000000
DTEND;TZID=Europe/Zurich:20131129T000000
LOCATION:Restaurant Seeblick
CATEGORIES:Rotary
END:VEVENT
BEGIN:VTIMEZONE
TZID:Europe/Zurich
BEGIN:STANDARD
DTSTART:20131129T000000
TZNAME:CET
TZOFFSETTO:+0100
TZOFFSETFROM:+0100
END:STANDARD
END:VTIMEZONE
END:VCALENDAR
