BEGIN:VCALENDAR
PRODID:-//eluceo/ical//2.0/EN
VERSION:2.0
CALSCALE:GREGORIAN
BEGIN:VEVENT
UID:09178b3cad5dd06d58f6aef7dc7a291d
DTSTAMP:20260424T093004Z
SUMMARY:Von der Lenzburger Seilerei zum globalen Outdoor-Player
DESCRIPTION:Relatore/i: Rolf Schmid
URL:https://rotary-lenzburg-seetal.ch/it/agenda/show/33703
DTSTART;TZID=Europe/Zurich:20131115T000000
DTEND;TZID=Europe/Zurich:20131115T000000
LOCATION:Restaurant Seeblick
CATEGORIES:Rotary
END:VEVENT
BEGIN:VTIMEZONE
TZID:Europe/Zurich
BEGIN:STANDARD
DTSTART:20131115T000000
TZNAME:CET
TZOFFSETTO:+0100
TZOFFSETFROM:+0100
END:STANDARD
END:VTIMEZONE
END:VCALENDAR
