BEGIN:VCALENDAR
PRODID:-//eluceo/ical//2.0/EN
VERSION:2.0
CALSCALE:GREGORIAN
BEGIN:VEVENT
UID:474587e7e988ab5f8e76e15da79aaa6b
DTSTAMP:20260424T091832Z
SUMMARY:Plauderlunch
DESCRIPTION:
URL:https://rotary-lenzburg-seetal.ch/it/agenda/show/33701
DTSTART;TZID=Europe/Zurich:20131101T000000
DTEND;TZID=Europe/Zurich:20131101T000000
LOCATION:Restaurant Seeblick
CATEGORIES:Rotary
END:VEVENT
BEGIN:VTIMEZONE
TZID:Europe/Zurich
BEGIN:STANDARD
DTSTART:20131101T000000
TZNAME:CET
TZOFFSETTO:+0100
TZOFFSETFROM:+0100
END:STANDARD
END:VTIMEZONE
END:VCALENDAR
