BEGIN:VCALENDAR
PRODID:-//eluceo/ical//2.0/EN
VERSION:2.0
CALSCALE:GREGORIAN
BEGIN:VEVENT
UID:f4384935717851d73587b01506aa095c
DTSTAMP:20260424T085918Z
SUMMARY:E-Mobility - der Technologiewandel hat begonnen
DESCRIPTION:Relatore/i: Peter Arnet\, GF Alpiq E-Mobility
URL:https://rotary-lenzburg-seetal.ch/it/agenda/show/33700
DTSTART;TZID=Europe/Zurich:20131025T000000
DTEND;TZID=Europe/Zurich:20131025T000000
LOCATION:Restaurant Seeblick
CATEGORIES:Rotary
END:VEVENT
BEGIN:VTIMEZONE
TZID:Europe/Zurich
BEGIN:DAYLIGHT
DTSTART:20131025T000000
TZNAME:CEST
TZOFFSETTO:+0200
TZOFFSETFROM:+0200
END:DAYLIGHT
END:VTIMEZONE
END:VCALENDAR
