BEGIN:VCALENDAR
PRODID:-//eluceo/ical//2.0/EN
VERSION:2.0
CALSCALE:GREGORIAN
BEGIN:VEVENT
UID:50a4b2267bc2019e4f5b474a5ee5253d
DTSTAMP:20260424T101709Z
SUMMARY:Lunch in Jagdhütte Seengen
DESCRIPTION:Relatore/i: Heinz Bruder
URL:https://rotary-lenzburg-seetal.ch/it/agenda/show/33695
DTSTART;TZID=Europe/Zurich:20131004T000000
DTEND;TZID=Europe/Zurich:20131004T000000
LOCATION:Jagdhütte Seengen - Heinz Bruder
CATEGORIES:Rotary
END:VEVENT
BEGIN:VTIMEZONE
TZID:Europe/Zurich
BEGIN:DAYLIGHT
DTSTART:20131004T000000
TZNAME:CEST
TZOFFSETTO:+0200
TZOFFSETFROM:+0200
END:DAYLIGHT
END:VTIMEZONE
END:VCALENDAR
