BEGIN:VCALENDAR
PRODID:-//eluceo/ical//2.0/EN
VERSION:2.0
CALSCALE:GREGORIAN
BEGIN:VEVENT
UID:cca440e767df1b4cf0c09b45d50e8ebc
DTSTAMP:20260420T130444Z
SUMMARY:Generalversammlung
DESCRIPTION:
URL:https://rotary-lenzburg-seetal.ch/it/agenda/show/24923
DTSTART;TZID=Europe/Zurich:20121130T000000
DTEND;TZID=Europe/Zurich:20121130T000000
LOCATION:Restaurant Seeblick
CATEGORIES:Rotary
END:VEVENT
BEGIN:VTIMEZONE
TZID:Europe/Zurich
BEGIN:STANDARD
DTSTART:20121130T000000
TZNAME:CET
TZOFFSETTO:+0100
TZOFFSETFROM:+0100
END:STANDARD
END:VTIMEZONE
END:VCALENDAR
