BEGIN:VCALENDAR
PRODID:-//eluceo/ical//2.0/EN
VERSION:2.0
CALSCALE:GREGORIAN
BEGIN:VEVENT
UID:d02cc183ae741ca590c6b4f2b48e3fb3
DTSTAMP:20260420T125916Z
SUMMARY:Schule Aargau - Schuljahresbeginn
DESCRIPTION:Relatore/i: Alex Hürzeler
URL:https://rotary-lenzburg-seetal.ch/it/agenda/show/24906
DTSTART;TZID=Europe/Zurich:20120810T000000
DTEND;TZID=Europe/Zurich:20120810T000000
LOCATION:Restaurant Seeblick
CATEGORIES:Rotary
END:VEVENT
BEGIN:VTIMEZONE
TZID:Europe/Zurich
BEGIN:DAYLIGHT
DTSTART:20120810T000000
TZNAME:CEST
TZOFFSETTO:+0200
TZOFFSETFROM:+0200
END:DAYLIGHT
END:VTIMEZONE
END:VCALENDAR
