BEGIN:VCALENDAR
PRODID:-//eluceo/ical//2.0/EN
VERSION:2.0
CALSCALE:GREGORIAN
BEGIN:VEVENT
UID:68178b9143e97682c49730192326b4d5
DTSTAMP:20260420T130805Z
SUMMARY:Plauderlunch
DESCRIPTION:
URL:https://rotary-lenzburg-seetal.ch/it/agenda/show/21584
DTSTART;TZID=Europe/Zurich:20120622T000000
DTEND;TZID=Europe/Zurich:20120622T000000
LOCATION:Restaurant Seeblick
CATEGORIES:Rotary
END:VEVENT
BEGIN:VTIMEZONE
TZID:Europe/Zurich
BEGIN:DAYLIGHT
DTSTART:20120622T000000
TZNAME:CEST
TZOFFSETTO:+0200
TZOFFSETFROM:+0200
END:DAYLIGHT
END:VTIMEZONE
END:VCALENDAR
