BEGIN:VCALENDAR
PRODID:-//eluceo/ical//2.0/EN
VERSION:2.0
CALSCALE:GREGORIAN
BEGIN:VEVENT
UID:6f776d54357f3a72f82e0e69637a7bbd
DTSTAMP:20260420T110713Z
SUMMARY:Jubiläumsanlass RC Lenzburg
DESCRIPTION:
URL:https://rotary-lenzburg-seetal.ch/it/agenda/show/21576
DTSTART;TZID=Europe/Zurich:20120512T000000
DTEND;TZID=Europe/Zurich:20120512T000000
LOCATION:Schloss Lenzburg
CATEGORIES:Rotary
END:VEVENT
BEGIN:VTIMEZONE
TZID:Europe/Zurich
BEGIN:DAYLIGHT
DTSTART:20120512T000000
TZNAME:CEST
TZOFFSETTO:+0200
TZOFFSETFROM:+0200
END:DAYLIGHT
END:VTIMEZONE
END:VCALENDAR
