BEGIN:VCALENDAR
PRODID:-//eluceo/ical//2.0/EN
VERSION:2.0
CALSCALE:GREGORIAN
BEGIN:VEVENT
UID:c40c50b6838a13923ba7c37b36930ac3
DTSTAMP:20260423T213537Z
SUMMARY:Weindegustation - Sensorik und Genuss für alle Sinne
DESCRIPTION:Site internet: https://www.fuerst-weine.ch/\nConférencier(s): 
 \n\nWeingut Fürst\, Erika und Daniel\, Stiftshalde\, 5075 Hornussen\; Tel
 .: 062 \n871 55 61\; www.fuerst-weine.ch\; Plan siehe PDF anbeiAnmeldung: 
 Bis am 17. März 2023 über unser Polaris-Tool (wie alle anderen Lunchs) T
 eilnehmerzahl: Mind. 20\; Max 60\n\n
URL:https://rotary-lenzburg-seetal.ch/fr/agenda/show/157309
DTSTART;TZID=Europe/Zurich:20230324T171500
DTEND;TZID=Europe/Zurich:20230324T214500
LOCATION:Weingut Fürst\, Stiftshalde\, 5075 Hornussen
CATEGORIES:Rotary
END:VEVENT
BEGIN:VTIMEZONE
TZID:Europe/Zurich
BEGIN:STANDARD
DTSTART:20230324T171500
TZNAME:CET
TZOFFSETTO:+0100
TZOFFSETFROM:+0100
END:STANDARD
END:VTIMEZONE
END:VCALENDAR
