BEGIN:VCALENDAR
PRODID:-//eluceo/ical//2.0/EN
VERSION:2.0
CALSCALE:GREGORIAN
BEGIN:VEVENT
UID:6612de4615ce5ab1cce1f2b68be52529
DTSTAMP:20260425T124055Z
SUMMARY:Allgemeine Informationen Corona-Pandemie (BAG)
DESCRIPTION:Die aktuellen Regeln des Bundesamtes für Gesundheit\, damit wi
 r alle möglichst gesund durch die Krise kommen.
URL:https://rotary-lenzburg-seetal.ch/fr/agenda/show/114329
DTSTART;TZID=Europe/Zurich:20200605T000000
DTEND;TZID=Europe/Zurich:20210609T000000
LOCATION:-
CATEGORIES:Rotary
END:VEVENT
BEGIN:VTIMEZONE
TZID:Europe/Zurich
BEGIN:DAYLIGHT
DTSTART:20200605T000000
TZNAME:CEST
TZOFFSETTO:+0200
TZOFFSETFROM:+0200
END:DAYLIGHT
BEGIN:STANDARD
DTSTART:20201025T020000
TZNAME:CET
TZOFFSETTO:+0100
TZOFFSETFROM:+0200
END:STANDARD
BEGIN:DAYLIGHT
DTSTART:20210328T030000
TZNAME:CEST
TZOFFSETTO:+0200
TZOFFSETFROM:+0100
END:DAYLIGHT
END:VTIMEZONE
END:VCALENDAR
