BEGIN:VCALENDAR
PRODID:-//eluceo/ical//2.0/EN
VERSION:2.0
CALSCALE:GREGORIAN
BEGIN:VEVENT
UID:eaa900dee8ed4060fe5bf9b711a63c5c
DTSTAMP:20260424T084905Z
SUMMARY:Absenden 
DESCRIPTION:Referenten/innen: gemäss separatem Programm 
URL:https://rotary-lenzburg-seetal.ch/de/agenda/show/101061
DTSTART;TZID=Europe/Zurich:20200627T161500
DTEND;TZID=Europe/Zurich:20200627T220000
LOCATION:Werkhof Lüpold AG\, Möriken 
CATEGORIES:Rotary
END:VEVENT
BEGIN:VTIMEZONE
TZID:Europe/Zurich
BEGIN:DAYLIGHT
DTSTART:20200627T161500
TZNAME:CEST
TZOFFSETTO:+0200
TZOFFSETFROM:+0200
END:DAYLIGHT
END:VTIMEZONE
END:VCALENDAR
