BEGIN:VCALENDAR
PRODID:-//eluceo/ical//2.0/EN
VERSION:2.0
CALSCALE:GREGORIAN
BEGIN:VEVENT
UID:2005cfef111287d3ee95a734a6aae86f
DTSTAMP:20260423T023732Z
SUMMARY:Doodle-Umfrage Meetings April-Juni jetzt online!
DESCRIPTION:Hier (auf Titel klicken) geht es zur Doodle-Umfrage.
URL:https://rotary-lenzburg-seetal.ch/bs/agenda/show/50089
DTSTART;TZID=Europe/Zurich:20150329T000000
DTEND;TZID=Europe/Zurich:20150630T000000
LOCATION:-
CATEGORIES:Rotary
END:VEVENT
BEGIN:VTIMEZONE
TZID:Europe/Zurich
BEGIN:STANDARD
DTSTART:20150329T000000
TZNAME:CET
TZOFFSETTO:+0100
TZOFFSETFROM:+0100
END:STANDARD
BEGIN:DAYLIGHT
DTSTART:20150329T030000
TZNAME:CEST
TZOFFSETTO:+0200
TZOFFSETFROM:+0100
END:DAYLIGHT
END:VTIMEZONE
END:VCALENDAR
