BEGIN:VCALENDAR
PRODID:-//eluceo/ical//2.0/EN
VERSION:2.0
CALSCALE:GREGORIAN
BEGIN:VEVENT
UID:c700035b9437bf934dce3075b1d48a29
DTSTAMP:20260423T005647Z
SUMMARY:26. Juni: Suchtprävention
DESCRIPTION:Govornik(ci): C. Meier\, Suchtprävention Aargau
URL:https://rotary-lenzburg-seetal.ch/bs/agenda/show/47774
DTSTART;TZID=Europe/Zurich:20150626T000000
DTEND;TZID=Europe/Zurich:20150626T000000
LOCATION:Restaurant Bänziger
CATEGORIES:Rotary
END:VEVENT
BEGIN:VTIMEZONE
TZID:Europe/Zurich
BEGIN:DAYLIGHT
DTSTART:20150626T000000
TZNAME:CEST
TZOFFSETTO:+0200
TZOFFSETFROM:+0200
END:DAYLIGHT
END:VTIMEZONE
END:VCALENDAR
